BEGIN:VCALENDAR
VERSION:2.0
PRODID:icalendar-ruby
CALSCALE:GREGORIAN
METHOD:PUBLISH
BEGIN:VEVENT
DTSTAMP:20260423T025617Z
UID:52-641766@thebridgewesttn.org
DTSTART:20260923T183000Z
DTEND:20260923T193000Z
CLASS:PUBLIC
CREATED:20260422T211927
DESCRIPTION:Date: Every Wednesday '\nTime: 1:30 pm - 2:30 pm\nLocation: OC 
 Fairgrounds
LAST-MODIFIED:20260422T211927
LOCATION:The Refuge Mission at the O.C. Fairgrounds
SUMMARY:Love Junkies
URL;VALUE=URI:https://www.thebridgewesttn.org/events/love-junkies/2026-09-2
 3
ATTACH;FILENAME=Love-Junkies-Book-Cover.jpg;FMTTYPE=image/jpeg:https://dq5p
 wpg1q8ru0.cloudfront.net/2025/09/02/20/41/49/40f44dfd-6f01-446b-b1d6-aedf6
 dc0b8aa/Love-Junkies-Book-Cover.jpg
ATTACH;FILENAME=Colorful-Wiggly-Retro-Pop-Vibrant-Inspirational-Quote-Insta
 gram-Post.png;FMTTYPE=image/png:https://dq5pwpg1q8ru0.cloudfront.net/2025/
 09/20/12/32/41/08737ddd-549c-480d-a541-911a28466333/Colorful-Wiggly-Retro-
 Pop-Vibrant-Inspirational-Quote-Instagram-Post.png
END:VEVENT
END:VCALENDAR
